BEGIN:VCALENDAR
VERSION:2.0
PRODID:-//Gippsland Woman - ECPv5.0.3.1//NONSGML v1.0//EN
CALSCALE:GREGORIAN
METHOD:PUBLISH
X-WR-CALNAME:Gippsland Woman
X-ORIGINAL-URL:https://gippslandwoman.org.au
X-WR-CALDESC:Events for Gippsland Woman
BEGIN:VTIMEZONE
TZID:Australia/Melbourne
BEGIN:STANDARD
TZOFFSETFROM:+1100
TZOFFSETTO:+1000
TZNAME:AEST
DTSTART:20210403T160000
END:STANDARD
BEGIN:DAYLIGHT
TZOFFSETFROM:+1000
TZOFFSETTO:+1100
TZNAME:AEDT
DTSTART:20211002T160000
END:DAYLIGHT
END:VTIMEZONE
BEGIN:VEVENT
DTSTART;TZID=Australia/Melbourne:20210226T130000
DTEND;TZID=Australia/Melbourne:20210228T150000
DTSTAMP:20210223T120131
CREATED:20200920T075219Z
LAST-MODIFIED:20210222T030556Z
UID:1163-1614344400-1614524400@gippslandwoman.org.au
SUMMARY:Get A Grip of the Grind Annual Festival
DESCRIPTION:This ‘without equal’ festival is the antidote for working women that want more from their life and or their career. With maverick female role models\, it will instill daring to fight for a more fulfilling and adventurous life; the remedy to ceding to conventional career and parenting pressures in addition to societal expectations that are driving women towards burnout\, self-sacrifice and deteriorating mental and physical health. Festival goers routinely give it a whopping 95%+ thumbs up.   \nOver three days the Festival hosts motivational female speakers\, offer myriad of professional development workshops and adventure activities that will pump women full of courage to pave their way to a more deliberate and fulfilling life.  We invite women to plan a weekend with your colleagues\, girlfriends\, mothers & daughters in the High Country to support the region’s recovery from the recent bushfire activities.   \nEarly bird tickets available until 25th Dec 2020. $190 for the weekend  \nAbout Us: we dare women to reconnect to what matters most for professional and personal success.   \n
URL:https://gippslandwoman.org.au/event/get-a-grip-of-the-grind-annual-festival/
LOCATION:Bright Victoria\, 1 railway parade\, Bright\, VIC\, 3174\, Australia
CATEGORIES:Information Session,Networking,Workshop
ATTACH;FMTTYPE=image/png:https://gippslandwoman.org.au/wp-content/uploads/2020/09/Three-ladies-festival-poster-2020.png
ORGANIZER;CN="Get%20A%20Grip%20of%20the%20Grind%20Pty%20Ltd":MAILTO:info@getagripofthegrind.com.u
END:VEVENT
END:VCALENDAR