BEGIN:VCALENDAR
VERSION:2.0
PRODID:-//Gippsland Woman - ECPv5.0.3.1//NONSGML v1.0//EN
CALSCALE:GREGORIAN
METHOD:PUBLISH
X-WR-CALNAME:Gippsland Woman
X-ORIGINAL-URL:https://gippslandwoman.org.au
X-WR-CALDESC:Events for Gippsland Woman
BEGIN:VTIMEZONE
TZID:Australia/Melbourne
BEGIN:STANDARD
TZOFFSETFROM:+1100
TZOFFSETTO:+1000
TZNAME:AEST
DTSTART:20200404T160000
END:STANDARD
BEGIN:DAYLIGHT
TZOFFSETFROM:+1000
TZOFFSETTO:+1100
TZNAME:AEDT
DTSTART:20201003T160000
END:DAYLIGHT
END:VTIMEZONE
BEGIN:VEVENT
DTSTART;TZID=Australia/Melbourne:20200326T114500
DTEND;TZID=Australia/Melbourne:20200326T143000
DTSTAMP:20210301T104015
CREATED:20200302T110630Z
LAST-MODIFIED:20200714T001702Z
UID:741-1585223100-1585233000@gippslandwoman.org.au
SUMMARY:Telstra Women in Ag Lunch
DESCRIPTION:The Telstra Women in Ag Luncheon\, now a signature event on the Farm World calendar\, provides the perfect platform to not only hear from some inspirational speakers\, but also to network and liaise with a room full of energetic\, talented women. Patron of the Telstra Women in Ag event\, Angela Betheras\, winner of the 2011 Victorian Agri-futures Rural Woman of the Year award\, initiated this event in 2012 as a way of celebrating the significant contribution that women make in rural and regional Australia\, many of whom she met through her award travels. So many fabulous women making huge impacts in their businesses and communities\, and through the Telstra Women in Ag lunch\, we wish to celebrate them. \nThis year’s luncheon will feature speakers who will engage\, inspire and motivate you with their personal and professional journeys. Their stories are from the heart and will challenge you to think outside the box\, believe in your abilities and provide some real life\, day to day experiences – both the trials and celebrations. It’s an afternoon for fabulous networking in a casual and charismatic environment over a delicious lunch and a glass of wine. So\, grab your friends\, round up your colleagues and book your tickets online now. \nThe Telstra Women in Ag lunch will be held from 11:45am – 2:30pm on Thursday 26th of March 2020. Tickets are $60.00 p/p or $500 for a table of ten\, which includes entry to Farm World\, Telstra Women in Ag presentations\, lunch\, gift bag and a glass of wine or soft drink on arrival. CLICK HERE to book tickets. \n
URL:https://gippslandwoman.org.au/event/telstra-women-in-ag-lunch/
LOCATION:Lardner Park\, 155 Burnt Store Road\, Lardner\, VIC\, Australia
CATEGORIES:Networking
END:VEVENT
END:VCALENDAR