BEGIN:VCALENDAR
VERSION:2.0
PRODID:-//Gippsland Woman - ECPv5.0.3.1//NONSGML v1.0//EN
CALSCALE:GREGORIAN
METHOD:PUBLISH
X-WR-CALNAME:Gippsland Woman
X-ORIGINAL-URL:https://gippslandwoman.org.au
X-WR-CALDESC:Events for Gippsland Woman
BEGIN:VTIMEZONE
TZID:Australia/Melbourne
BEGIN:STANDARD
TZOFFSETFROM:+1100
TZOFFSETTO:+1000
TZNAME:AEST
DTSTART:20200404T160000
END:STANDARD
BEGIN:DAYLIGHT
TZOFFSETFROM:+1000
TZOFFSETTO:+1100
TZNAME:AEDT
DTSTART:20201003T160000
END:DAYLIGHT
END:VTIMEZONE
BEGIN:VEVENT
DTSTART;TZID=Australia/Melbourne:20200311T110000
DTEND;TZID=Australia/Melbourne:20200311T130000
DTSTAMP:20210301T105339
CREATED:20200306T024908Z
LAST-MODIFIED:20200306T024908Z
UID:774-1583924400-1583931600@gippslandwoman.org.au
SUMMARY:International Women's Day Morning Tea
DESCRIPTION:Put Wednesday 11am 11th March in your diary\, as you’re invited to celebrate International Women’s Day here at the Neighbourhood House.\nWe will be enjoying a poetry recital\, belly dancing performance and our special guest speaker is our very own Heather Urie who will talk about her amazing feat of swimming the English Channel.\nAnd if that wasn’t enough….there will of course be a yummy morning tea to share 🙂 \nTo RSVP phone 5174 6199\nLooking forward to seeing you on the 11th 🙂 \n
URL:https://gippslandwoman.org.au/event/international-womens-day-morning-tea/
LOCATION:Traralgon Neighbourhood Learning House\, 11-13 Breed Street\, Traralgon\, Victoria\, 3844\, Australia
ORGANIZER;CN="Traralgon%20Neighbourhood%20Learning%20House":MAILTO:admin@tnlh.org.au
END:VEVENT
END:VCALENDAR