BEGIN:VCALENDAR
VERSION:2.0
PRODID:-//Gippsland Woman - ECPv5.0.3.1//NONSGML v1.0//EN
CALSCALE:GREGORIAN
METHOD:PUBLISH
X-WR-CALNAME:Gippsland Woman
X-ORIGINAL-URL:https://gippslandwoman.org.au
X-WR-CALDESC:Events for Gippsland Woman
BEGIN:VTIMEZONE
TZID:Australia/Melbourne
BEGIN:STANDARD
TZOFFSETFROM:+1100
TZOFFSETTO:+1000
TZNAME:AEST
DTSTART:20200404T160000
END:STANDARD
BEGIN:DAYLIGHT
TZOFFSETFROM:+1000
TZOFFSETTO:+1100
TZNAME:AEDT
DTSTART:20201003T160000
END:DAYLIGHT
END:VTIMEZONE
BEGIN:VEVENT
DTSTART;TZID=Australia/Melbourne:20200318T173000
DTEND;TZID=Australia/Melbourne:20200318T220000
DTSTAMP:20210301T105408
CREATED:20200302T111356Z
LAST-MODIFIED:20200302T111709Z
UID:751-1584552600-1584568800@gippslandwoman.org.au
SUMMARY:East Gippsland Women in Agriculture - dinner with Robyn Moore
DESCRIPTION:To celebrate life\, the East Gippsland Women in Agriculture Network\, in partnership with the East Gippsland Shire\, has decided to organise a dinner on the 18th of March at the Bellevue in Lakes Entrance. Invited are all women in agriculture & women in business. \nStarting at 5.30pm the night should finish (at the latest) around 9:30/10:00pm. Matt from the Bellevue will create a brilliant 2-course meal\, using local produce and the entertainment will be keynote speaker Robyn Moore. \nRobyn’s talk is all about the power of the word and the importance of those little stories. She was highly recommended by a few people and is extremely funny. I thought laughter and inspiration would be a perfect combination after the past couple of months. \n \nThe cost is $20 a person. \n
URL:https://gippslandwoman.org.au/event/east-gippsland-women-in-agriculture-dinner-with-robyn-moore/
LOCATION:Bellevue on the Lakes\, 201 Esplanade\, Lakes Entrance\, VIC\, 3909\, Australia
CATEGORIES:Networking
END:VEVENT
END:VCALENDAR